BEGIN:VCALENDAR
VERSION:2.0
PRODID:-//Lake of Isles Golf Club and Resort - ECPv6.15.18//NONSGML v1.0//EN
CALSCALE:GREGORIAN
METHOD:PUBLISH
X-ORIGINAL-URL:https://www.lakeofisles.com
X-WR-CALDESC:Events for Lake of Isles Golf Club and Resort
REFRESH-INTERVAL;VALUE=DURATION:PT1H
X-Robots-Tag:noindex
X-PUBLISHED-TTL:PT1H
BEGIN:VTIMEZONE
TZID:America/New_York
BEGIN:DAYLIGHT
TZOFFSETFROM:-0500
TZOFFSETTO:-0400
TZNAME:EDT
DTSTART:20240310T070000
END:DAYLIGHT
BEGIN:STANDARD
TZOFFSETFROM:-0400
TZOFFSETTO:-0500
TZNAME:EST
DTSTART:20241103T060000
END:STANDARD
BEGIN:DAYLIGHT
TZOFFSETFROM:-0500
TZOFFSETTO:-0400
TZNAME:EDT
DTSTART:20250309T070000
END:DAYLIGHT
BEGIN:STANDARD
TZOFFSETFROM:-0400
TZOFFSETTO:-0500
TZNAME:EST
DTSTART:20251102T060000
END:STANDARD
BEGIN:DAYLIGHT
TZOFFSETFROM:-0500
TZOFFSETTO:-0400
TZNAME:EDT
DTSTART:20260308T070000
END:DAYLIGHT
BEGIN:STANDARD
TZOFFSETFROM:-0400
TZOFFSETTO:-0500
TZNAME:EST
DTSTART:20261101T060000
END:STANDARD
END:VTIMEZONE
BEGIN:VEVENT
DTSTART;TZID=America/New_York:20250620T170000
DTEND;TZID=America/New_York:20250620T200000
DTSTAMP:20260423T104554
CREATED:20250311T155052Z
LAST-MODIFIED:20250516T205450Z
UID:10000468-1750438800-1750449600@www.lakeofisles.com
SUMMARY:Friday Fun Night
DESCRIPTION:Welcome to the Mixed Couples League! This League is designed for everyone to play with a new person every week. \n  \nFormat: \n9 Hole Shotgun at 5:00PM \nFormat changes weekly\, but will always be a 4-person team event
URL:https://www.lakeofisles.com/event/friday-fun-night/2025-06-20/
LOCATION:Lake of Isles\, 1 Clubhouse Drive\, North Stonington\, CT\, 06359\, United States
CATEGORIES:Members Only
ATTACH;FMTTYPE=image/png:https://www.lakeofisles.com/wp-content/uploads/sites/9518/2025/03/Friday-fun-night.png
END:VEVENT
END:VCALENDAR