BEGIN:VCALENDAR
VERSION:2.0
PRODID:-//Lake of Isles Golf Club and Resort - ECPv6.15.18//NONSGML v1.0//EN
CALSCALE:GREGORIAN
METHOD:PUBLISH
X-ORIGINAL-URL:https://www.lakeofisles.com
X-WR-CALDESC:Events for Lake of Isles Golf Club and Resort
REFRESH-INTERVAL;VALUE=DURATION:PT1H
X-Robots-Tag:noindex
X-PUBLISHED-TTL:PT1H
BEGIN:VTIMEZONE
TZID:America/New_York
BEGIN:DAYLIGHT
TZOFFSETFROM:-0500
TZOFFSETTO:-0400
TZNAME:EDT
DTSTART:20240310T070000
END:DAYLIGHT
BEGIN:STANDARD
TZOFFSETFROM:-0400
TZOFFSETTO:-0500
TZNAME:EST
DTSTART:20241103T060000
END:STANDARD
BEGIN:DAYLIGHT
TZOFFSETFROM:-0500
TZOFFSETTO:-0400
TZNAME:EDT
DTSTART:20250309T070000
END:DAYLIGHT
BEGIN:STANDARD
TZOFFSETFROM:-0400
TZOFFSETTO:-0500
TZNAME:EST
DTSTART:20251102T060000
END:STANDARD
BEGIN:DAYLIGHT
TZOFFSETFROM:-0500
TZOFFSETTO:-0400
TZNAME:EDT
DTSTART:20260308T070000
END:DAYLIGHT
BEGIN:STANDARD
TZOFFSETFROM:-0400
TZOFFSETTO:-0500
TZNAME:EST
DTSTART:20261101T060000
END:STANDARD
END:VTIMEZONE
BEGIN:VEVENT
DTSTART;TZID=America/New_York:20250426T180000
DTEND;TZID=America/New_York:20250426T210000
DTSTAMP:20260422T083239
CREATED:20250311T184656Z
LAST-MODIFIED:20250311T214027Z
UID:10000259-1745690400-1745701200@www.lakeofisles.com
SUMMARY:Opening Dinner
DESCRIPTION:Call Jamie for reservations \njgauthier@kempersports.com \n(860) 312-2101
URL:https://www.lakeofisles.com/event/opening-dinner/
LOCATION:Lake of Isles\, 1 Clubhouse Drive\, North Stonington\, CT\, 06359\, United States
CATEGORIES:Members Only
ATTACH;FMTTYPE=image/png:https://www.lakeofisles.com/wp-content/uploads/sites/9518/2025/03/Lake-of-Isles_Logo_South-Course_turtle_Blue@2x.png
END:VEVENT
END:VCALENDAR